{ "currentVersion": 11.3, "cimVersion": "3.3.0", "serviceDescription": "
This raster dataset consists of color orthophotos. A digital orthophoto is a raster image processed from vertical aerial photographs in which displacement in the image due to sensor orientation and terrain relief have been removed. Orthophotos combine the image characteristics of a photograph with the geometric qualities of a map. Unlike planimetric maps which depicts natural and manmade features by means of lines, point symbols, texts and polygons, orthophotos show the actual images of features and are thus more easily interpreted than regular maps.<\/span><\/p> <\/p> This raster dataset is a composite of several different years and sources of raster data in order to provide seamless aerial photography coverage of Maricopa County. It was made so that it would represent the most current, best resolution available aerial photography no matter where you are in the county. This helps eliminate loading several years worth of raster datasets trying to accomplish this same goal. It is updated annually with orthophotos from the latest \"countywide\" aerial photography project. Currently this composite is made by combining the image files from:<\/span><\/p> <\/p> Aerial2020Oct_2020Nov_Ortho raster dataset [0.25-foot Ground Sampling Distance referenced to the GDACS survey points] - This raster dataset source tiles are 5000' x 5000' in dimension, butt joined with the adjacent tiles (no gap and no overlap). LiDAR derived DEM data was used in the orthorectification process. This dataset is published in Arizona State Plane Coordinate System, Central Zone, NAD83/92 with units in international feet.<\/span><\/p> <\/p> Aerial2018Sep_2018Dec_Ortho raster dataset [0.75-foot and 0.32-foot Ground Sampling Distance referenced to the GDACS survey points] - This raster dataset source tiles are 5000' x 5000' in dimension, butt joined with the adjacent tiles (no gap and no overlap). LiDAR derived DEM data was used in the orthorectification process. This dataset is published in Arizona State Plane Coordinate System, Central Zone, NAD83/92 with units in international feet.<\/span><\/p> <\/p> Aerial2016Sep_2016Dec_Ortho raster dataset [0.32-foot Ground Sampling Distance referenced to the GDACS survey points] - This raster dataset source tiles are 5000' x 5000' in dimension, butt joined with the adjacent tiles (no gap and no overlap). LiDAR and photogrammetrically-derived DEM data was used in the orthorectification process. This dataset is published in Arizona State Plane Coordinate System, Central Zone, NAD83/92 with units in international feet.<\/span><\/p> <\/p> Aerial2015Nov_2016Feb_Ortho raster dataset [0.75-foot Ground Sampling Distance referenced to the GDACS survey points] - This raster dataset source tiles are 5000' x 5000' in dimension, butt joined with the adjacent tiles (no gap and no overlap). LiDAR and photogrammetrically-derived DEM data was used in the orthorectification process. This dataset is published in Arizona State Plane Coordinate System, Central Zone, NAD83/92 with units in international feet.<\/span><\/p> <\/p> Aerial2014Sep_2014Nov_Ortho raster dataset [0.8-foot and 0.25-foot Ground Sampling Distance referenced to the GDACS survey points] - This raster dataset source tiles are 5000' x 5000' in dimension, butt joined with the adjacent tiles (no gap and no overlap). The county DTM elevation data originally collected in 2010 was used in the orthorectification process as well as supplemental DEM data provided by various participating agencies and DTM elevation data collected in 2013 in the Barry M. Goldwater Gunnery Range area. This dataset is published in Arizona State Plane Coordinate System, Central Zone, NAD83/92 with units in international feet.<\/span><\/p> <\/p> Aerial2017Jun_2017Sep_Statewide_Ortho raster dataset [0.6-meter Ground Sampling Distance referenced to the USGS quad maps]- This raster dataset source tiles are based on the 24K USGS tiling scheme and have an overlap with adjacent tiles. The USGS data was used during orthorectification. This dataset is published in UTM, NAD83, Zone 12N.<\/span><\/p><\/div><\/div><\/div>",
"mapName": "AerialComposite",
"description": " This raster dataset consists of color orthophotos. A digital orthophoto is a raster image processed from vertical aerial photographs in which displacement in the image due to sensor orientation and terrain relief have been removed. Orthophotos combine the image characteristics of a photograph with the geometric qualities of a map. Unlike planimetric maps which depicts natural and manmade features by means of lines, point symbols, texts and polygons, orthophotos show the actual images of features and are thus more easily interpreted than regular maps.<\/SPAN><\/P> <\/P> This raster dataset is a composite of several different years and sources of raster data in order to provide seamless aerial photography coverage of Maricopa County. It was made so that it would represent the most current, best resolution available aerial photography no matter where you are in the county. This helps eliminate loading several years worth of raster datasets trying to accomplish this same goal. It is updated annually with orthophotos from the latest \"countywide\" aerial photography project. Currently this composite is made by combining the image files from:<\/SPAN><\/P> <\/P> Aerial2020Oct_2020Nov_Ortho raster dataset [0.25-foot Ground Sampling Distance referenced to the GDACS survey points] - This raster dataset source tiles are 5000' x 5000' in dimension, butt joined with the adjacent tiles (no gap and no overlap). LiDAR derived DEM data was used in the orthorectification process. This dataset is published in Arizona State Plane Coordinate System, Central Zone, NAD83/92 with units in international feet.<\/SPAN><\/P> <\/P> Aerial2018Sep_2018Dec_Ortho raster dataset [0.75-foot and 0.32-foot Ground Sampling Distance referenced to the GDACS survey points] - This raster dataset source tiles are 5000' x 5000' in dimension, butt joined with the adjacent tiles (no gap and no overlap). LiDAR derived DEM data was used in the orthorectification process. This dataset is published in Arizona State Plane Coordinate System, Central Zone, NAD83/92 with units in international feet.<\/SPAN><\/P> <\/P> Aerial2016Sep_2016Dec_Ortho raster dataset [0.32-foot Ground Sampling Distance referenced to the GDACS survey points] - This raster dataset source tiles are 5000' x 5000' in dimension, butt joined with the adjacent tiles (no gap and no overlap). LiDAR and photogrammetrically-derived DEM data was used in the orthorectification process. This dataset is published in Arizona State Plane Coordinate System, Central Zone, NAD83/92 with units in international feet.<\/SPAN><\/P> <\/P> Aerial2015Nov_2016Feb_Ortho raster dataset [0.75-foot Ground Sampling Distance referenced to the GDACS survey points] - This raster dataset source tiles are 5000' x 5000' in dimension, butt joined with the adjacent tiles (no gap and no overlap). LiDAR and photogrammetrically-derived DEM data was used in the orthorectification process. This dataset is published in Arizona State Plane Coordinate System, Central Zone, NAD83/92 with units in international feet.<\/SPAN><\/P> <\/P> Aerial2014Sep_2014Nov_Ortho raster dataset [0.8-foot and 0.25-foot Ground Sampling Distance referenced to the GDACS survey points] - This raster dataset source tiles are 5000' x 5000' in dimension, butt joined with the adjacent tiles (no gap and no overlap). The county DTM elevation data originally collected in 2010 was used in the orthorectification process as well as supplemental DEM data provided by various participating agencies and DTM elevation data collected in 2013 in the Barry M. Goldwater Gunnery Range area. This dataset is published in Arizona State Plane Coordinate System, Central Zone, NAD83/92 with units in international feet.<\/SPAN><\/P> <\/P> Aerial2017Jun_2017Sep_Statewide_Ortho raster dataset [0.6-meter Ground Sampling Distance referenced to the USGS quad maps]- This raster dataset source tiles are based on the 24K USGS tiling scheme and have an overlap with adjacent tiles. The USGS data was used during orthorectification. This dataset is published in UTM, NAD83, Zone 12N.<\/SPAN><\/P><\/DIV><\/DIV><\/DIV>",
"copyrightText": "",
"supportsDynamicLayers": false,
"layers": [
{
"id": 0,
"name": "Aerial Photography",
"parentLayerId": -1,
"defaultVisibility": true,
"subLayerIds": null,
"minScale": 2500000,
"maxScale": 0,
"type": "Feature Layer",
"geometryType": "esriGeometryPoint",
"supportsDynamicLegends": true
}
],
"tables": [],
"spatialReference": {
"wkid": 102100,
"latestWkid": 3857,
"xyTolerance": 0.001,
"zTolerance": 0.001,
"mTolerance": 0.001,
"falseX": -20037700,
"falseY": -30241100,
"xyUnits": 10000,
"falseZ": -100000,
"zUnits": 10000,
"falseM": -100000,
"mUnits": 10000
},
"singleFusedMapCache": true,
"tileInfo": {
"rows": 256,
"cols": 256,
"dpi": 96,
"format": "MIXED",
"compressionQuality": 90,
"origin": {
"x": -2.0037508342787E7,
"y": 2.0037508342787E7
},
"spatialReference": {
"wkid": 102100,
"latestWkid": 3857,
"xyTolerance": 0.001,
"zTolerance": 0.001,
"mTolerance": 0.001,
"falseX": -20037700,
"falseY": -30241100,
"xyUnits": 10000,
"falseZ": -100000,
"zUnits": 10000,
"falseM": -100000,
"mUnits": 10000
},
"lods": [
{
"level": 0,
"resolution": 611.4962262813797,
"scale": 2311162.217155
},
{
"level": 1,
"resolution": 305.74811314055756,
"scale": 1155581.108577
},
{
"level": 2,
"resolution": 152.87405657041106,
"scale": 577790.554289
},
{
"level": 3,
"resolution": 76.43702828507324,
"scale": 288895.277144
},
{
"level": 4,
"resolution": 38.21851414253662,
"scale": 144447.638572
},
{
"level": 5,
"resolution": 19.10925707126831,
"scale": 72223.819286
},
{
"level": 6,
"resolution": 9.554628535634155,
"scale": 36111.909643
},
{
"level": 7,
"resolution": 4.77731426794937,
"scale": 18055.954822
},
{
"level": 8,
"resolution": 2.388657133974685,
"scale": 9027.977411
},
{
"level": 9,
"resolution": 1.1943285668550503,
"scale": 4513.988705
},
{
"level": 10,
"resolution": 0.5971642835598172,
"scale": 2256.994353
},
{
"level": 11,
"resolution": 0.29858214164761665,
"scale": 1128.497176
},
{
"level": 12,
"resolution": 0.14929107082380833,
"scale": 564.248588
},
{
"level": 13,
"resolution": 0.07464553541190416,
"scale": 282.124294
}
]
},
"storageInfo": {
"storageFormat": "esriMapCacheStorageModeCompactV2",
"packetSize": 128
},
"initialExtent": {
"xmin": -1.2866005913980523E7,
"ymin": 3602069.3994752727,
"xmax": -1.211135075301948E7,
"ymax": 4264394.7155247275,
"spatialReference": {
"wkid": 102100,
"latestWkid": 3857,
"xyTolerance": 0.001,
"zTolerance": 0.001,
"mTolerance": 0.001,
"falseX": -20037700,
"falseY": -30241100,
"xyUnits": 10000,
"falseZ": -100000,
"zUnits": 10000,
"falseM": -100000,
"mUnits": 10000
}
},
"fullExtent": {
"xmin": -1.266298022E7,
"ymin": 3778440.914,
"xmax": -1.2314376447E7,
"ymax": 4088023.201,
"spatialReference": {
"wkid": 102100,
"latestWkid": 3857,
"xyTolerance": 0.001,
"zTolerance": 0.001,
"mTolerance": 0.001,
"falseX": -20037700,
"falseY": -30241100,
"xyUnits": 10000,
"falseZ": -100000,
"zUnits": 10000,
"falseM": -100000,
"mUnits": 10000
}
},
"datesInUnknownTimezone": false,
"minScale": 2311162.217154,
"maxScale": 282.124294,
"minLOD": 0,
"maxLOD": 13,
"units": "esriMeters",
"supportedImageFormatTypes": "PNG32,PNG24,PNG,JPG,DIB,TIFF,EMF,PS,PDF,GIF,SVG,SVGZ,BMP",
"documentInfo": {
"Title": "Aerial Photography (Most Recent Highest Quality Composite)",
"Author": "",
"Comments": " This raster dataset consists of color orthophotos. A digital orthophoto is a raster image processed from vertical aerial photographs in which displacement in the image due to sensor orientation and terrain relief have been removed. Orthophotos combine the image characteristics of a photograph with the geometric qualities of a map. Unlike planimetric maps which depicts natural and manmade features by means of lines, point symbols, texts and polygons, orthophotos show the actual images of features and are thus more easily interpreted than regular maps.<\/SPAN><\/P> <\/P> This raster dataset is a composite of several different years and sources of raster data in order to provide seamless aerial photography coverage of Maricopa County. It was made so that it would represent the most current, best resolution available aerial photography no matter where you are in the county. This helps eliminate loading several years worth of raster datasets trying to accomplish this same goal. It is updated annually with orthophotos from the latest \"countywide\" aerial photography project. Currently this composite is made by combining the image files from:<\/SPAN><\/P> <\/P> Aerial2020Oct_2020Nov_Ortho raster dataset [0.25-foot Ground Sampling Distance referenced to the GDACS survey points] - This raster dataset source tiles are 5000' x 5000' in dimension, butt joined with the adjacent tiles (no gap and no overlap). LiDAR derived DEM data was used in the orthorectification process. This dataset is published in Arizona State Plane Coordinate System, Central Zone, NAD83/92 with units in international feet.<\/SPAN><\/P> <\/P> Aerial2018Sep_2018Dec_Ortho raster dataset [0.75-foot and 0.32-foot Ground Sampling Distance referenced to the GDACS survey points] - This raster dataset source tiles are 5000' x 5000' in dimension, butt joined with the adjacent tiles (no gap and no overlap). LiDAR derived DEM data was used in the orthorectification process. This dataset is published in Arizona State Plane Coordinate System, Central Zone, NAD83/92 with units in international feet.<\/SPAN><\/P> <\/P> Aerial2016Sep_2016Dec_Ortho raster dataset [0.32-foot Ground Sampling Distance referenced to the GDACS survey points] - This raster dataset source tiles are 5000' x 5000' in dimension, butt joined with the adjacent tiles (no gap and no overlap). LiDAR and photogrammetrically-derived DEM data was used in the orthorectification process. This dataset is published in Arizona State Plane Coordinate System, Central Zone, NAD83/92 with units in international feet.<\/SPAN><\/P> <\/P> Aerial2015Nov_2016Feb_Ortho raster dataset [0.75-foot Ground Sampling Distance referenced to the GDACS survey points] - This raster dataset source tiles are 5000' x 5000' in dimension, butt joined with the adjacent tiles (no gap and no overlap). LiDAR and photogrammetrically-derived DEM data was used in the orthorectification process. This dataset is published in Arizona State Plane Coordinate System, Central Zone, NAD83/92 with units in international feet.<\/SPAN><\/P> <\/P> Aerial2014Sep_2014Nov_Ortho raster dataset [0.8-foot and 0.25-foot Ground Sampling Distance referenced to the GDACS survey points] - This raster dataset source tiles are 5000' x 5000' in dimension, butt joined with the adjacent tiles (no gap and no overlap). The county DTM elevation data originally collected in 2010 was used in the orthorectification process as well as supplemental DEM data provided by various participating agencies and DTM elevation data collected in 2013 in the Barry M. Goldwater Gunnery Range area. This dataset is published in Arizona State Plane Coordinate System, Central Zone, NAD83/92 with units in international feet.<\/SPAN><\/P> <\/P> Aerial2017Jun_2017Sep_Statewide_Ortho raster dataset [0.6-meter Ground Sampling Distance referenced to the USGS quad maps]- This raster dataset source tiles are based on the 24K USGS tiling scheme and have an overlap with adjacent tiles. The USGS data was used during orthorectification. This dataset is published in UTM, NAD83, Zone 12N.<\/SPAN><\/P><\/DIV><\/DIV><\/DIV>",
"Subject": "This mosaic is made up of the best available ortho-rectified aerial photography that covers the extent of Maricopa County, Arizona, plus a 25 mile buffer.",
"Category": "",
"Version": "2.9.0",
"AntialiasingMode": "Fast",
"TextAntialiasingMode": "Force",
"Keywords": "orthophoto,ortho,aerial,photography,photo,image,imagery,maricopa,maricopa,county"
},
"supportsQueryDomains": true,
"capabilities": "Map,Query,Data",
"supportedQueryFormats": "JSON, geoJSON, PBF",
"exportTilesAllowed": true,
"maxExportTilesCount": 10000,
"referenceScale": 0.0,
"datumTransformations": [
{
"geoTransforms": [
{
"wkid": 108001,
"latestWkid": 1241,
"transformForward": true,
"name": "NAD_1927_To_NAD_1983_NADCON"
}
]
},
{
"geoTransforms": [
{
"wkid": 108001,
"latestWkid": 1241,
"transformForward": false,
"name": "NAD_1927_To_NAD_1983_NADCON"
}
]
},
{
"geoTransforms": [
{
"wkid": 1580,
"latestWkid": 1580,
"transformForward": true,
"name": "NAD_1983_HARN_To_WGS_1984"
}
]
},
{
"geoTransforms": [
{
"wkid": 1580,
"latestWkid": 1580,
"transformForward": false,
"name": "NAD_1983_HARN_To_WGS_1984"
}
]
}
],
"supportsDatumTransformation": true,
"archivingInfo": {"supportsHistoricMoment": false},
"supportsClipping": true,
"supportsSpatialFilter": true,
"supportsTimeRelation": true,
"supportsQueryDataElements": true,
"mapUnits": {"uwkid": 9001},
"maxRecordCount": 2000,
"maxImageHeight": 4096,
"maxImageWidth": 4096,
"supportedExtensions": "",
"resampling": false
}