{ "currentVersion": 11.3, "cimVersion": "3.3.0", "serviceDescription": "
This raster dataset consists of color orthophotos. A digital orthophoto is a raster image processed from vertical aerial photographs in which displacement in the image due to sensor orientation and terrain relief have been removed. Orthophotos combine the image characteristics of a photograph with the geometric qualities of a map. Unlike planimetric maps which depicts natural and manmade features by means of lines, point symbols, texts and polygons, orthophotos show the actual images of features and are thus more easily interpreted than regular maps. The normal orientation of data in an orthophoto is by lines (rows) and samples (columns). Each line contains a series of pixels ordered from west to east with the order of the lines from north to south.<\/SPAN><\/P> <\/P> The color aerial orthophotography was collected from September 2019 thru December 2019. The orthophotos were produced at 0.25', 0.32' and 0.75' Ground Sampling Distance (GSD) covering approximately 5855 square miles. Of the 5855 square miles, approximately 461 square miles are high resolution (0.25') imagery, approximately 2756 square miles are lower resolution (0.32') imagery, and approximately 2638 square miles are lowest resolution (0.75') imagery. The flight heights range from approximately 2300'-5800', 2200'-6800' and 2100'-9200' above mean terrain respectively for the high resolution (0.25'), lower resolution (0.32'), and lowest resolution (0.75') imagery. Each ortho tile is 5000' x 5000' in dimension and was produced from nadir images and edge matched with the adjacent tiles (no gap and no overlap). Automatic aerial triangulation (AAT) was performed. The triangulated frames were rectified to a LiDAR derived DEM. Mosaicing was performed using an automatic seaming algorithm and manually edited to eliminate seams through elevated features where possible. Each image tile is stored in industry standard .TIFF (tagged interchange file format) with an associated true world header file. This dataset is published in Arizona State Plane Coordinate System, Central Zone, NAD83/92 HARN with units in international feet.<\/SPAN><\/P><\/DIV><\/DIV><\/DIV>",
"mapName": "Aerial2019Sep2019DecOrtho",
"description": " This raster dataset consists of color orthophotos. A digital orthophoto is a raster image processed from vertical aerial photographs in which displacement in the image due to sensor orientation and terrain relief have been removed. Orthophotos combine the image characteristics of a photograph with the geometric qualities of a map. Unlike planimetric maps which depicts natural and manmade features by means of lines, point symbols, texts and polygons, orthophotos show the actual images of features and are thus more easily interpreted than regular maps. The normal orientation of data in an orthophoto is by lines (rows) and samples (columns). Each line contains a series of pixels ordered from west to east with the order of the lines from north to south.<\/SPAN><\/P> <\/P> The color aerial orthophotography was collected from September 2019 thru December 2019. The orthophotos were produced at 0.25', 0.32' and 0.75' Ground Sampling Distance (GSD) covering approximately 5855 square miles. Of the 5855 square miles, approximately 461 square miles are high resolution (0.25') imagery, approximately 2756 square miles are lower resolution (0.32') imagery, and approximately 2638 square miles are lowest resolution (0.75') imagery. The flight heights range from approximately 2300'-5800', 2200'-6800' and 2100'-9200' above mean terrain respectively for the high resolution (0.25'), lower resolution (0.32'), and lowest resolution (0.75') imagery. Each ortho tile is 5000' x 5000' in dimension and was produced from nadir images and edge matched with the adjacent tiles (no gap and no overlap). Automatic aerial triangulation (AAT) was performed. The triangulated frames were rectified to a LiDAR derived DEM. Mosaicing was performed using an automatic seaming algorithm and manually edited to eliminate seams through elevated features where possible. Each image tile is stored in industry standard .TIFF (tagged interchange file format) with an associated true world header file. This dataset is published in Arizona State Plane Coordinate System, Central Zone, NAD83/92 HARN with units in international feet.<\/SPAN><\/P><\/DIV><\/DIV><\/DIV>",
"copyrightText": "",
"supportsDynamicLayers": false,
"layers": [
{
"id": 0,
"name": "Aerial Photography",
"parentLayerId": -1,
"defaultVisibility": true,
"subLayerIds": null,
"minScale": 2500000,
"maxScale": 0,
"type": "Feature Layer",
"geometryType": "esriGeometryPoint",
"supportsDynamicLegends": true
}
],
"tables": [],
"spatialReference": {
"wkid": 102100,
"latestWkid": 3857,
"xyTolerance": 0.001,
"zTolerance": 0.001,
"mTolerance": 0.001,
"falseX": -20037700,
"falseY": -30241100,
"xyUnits": 10000,
"falseZ": -100000,
"zUnits": 10000,
"falseM": -100000,
"mUnits": 10000
},
"singleFusedMapCache": true,
"tileInfo": {
"rows": 256,
"cols": 256,
"dpi": 96,
"format": "MIXED",
"compressionQuality": 75,
"origin": {
"x": -20037700,
"y": 30241100
},
"spatialReference": {
"wkid": 102100,
"latestWkid": 3857,
"xyTolerance": 0.001,
"zTolerance": 0.001,
"mTolerance": 0.001,
"falseX": -20037700,
"falseY": -30241100,
"xyUnits": 1.4892314192838538E8,
"falseZ": -100000,
"zUnits": 10000,
"falseM": -100000,
"mUnits": 10000
},
"lods": [
{
"level": 0,
"resolution": 611.4962262811151,
"scale": 2311162.217154
},
{
"level": 1,
"resolution": 305.74811314055756,
"scale": 1155581.108577
},
{
"level": 2,
"resolution": 152.87405657041106,
"scale": 577790.554289
},
{
"level": 3,
"resolution": 76.43702828507324,
"scale": 288895.277144
},
{
"level": 4,
"resolution": 38.21851414253662,
"scale": 144447.638572
},
{
"level": 5,
"resolution": 19.10925707126831,
"scale": 72223.819286
},
{
"level": 6,
"resolution": 9.554628535634155,
"scale": 36111.909643
},
{
"level": 7,
"resolution": 4.77731426794937,
"scale": 18055.954822
},
{
"level": 8,
"resolution": 2.388657133974685,
"scale": 9027.977411
},
{
"level": 9,
"resolution": 1.1943285668550503,
"scale": 4513.988705
},
{
"level": 10,
"resolution": 0.5971642835598172,
"scale": 2256.994353
},
{
"level": 11,
"resolution": 0.29858214164761665,
"scale": 1128.497176
},
{
"level": 12,
"resolution": 0.14929107082380833,
"scale": 564.248588
},
{
"level": 13,
"resolution": 0.07464553541190416,
"scale": 282.124294
}
]
},
"storageInfo": {
"storageFormat": "esriMapCacheStorageModeCompactV2",
"packetSize": 128
},
"initialExtent": {
"xmin": -1.2822404413692195E7,
"ymin": 3712896.4295986593,
"xmax": -1.2182898145307805E7,
"ymax": 4154987.292401338,
"spatialReference": {
"wkid": 102100,
"latestWkid": 3857,
"xyTolerance": 0.001,
"zTolerance": 0.001,
"mTolerance": 0.001,
"falseX": -20037700,
"falseY": -30241100,
"xyUnits": 10000,
"falseZ": -100000,
"zUnits": 10000,
"falseM": -100000,
"mUnits": 10000
}
},
"fullExtent": {
"xmin": -1.2664874676E7,
"ymin": 3811082.8,
"xmax": -1.2340427883E7,
"ymax": 4056800.9219999993,
"spatialReference": {
"wkid": 102100,
"latestWkid": 3857,
"xyTolerance": 0.001,
"zTolerance": 0.001,
"mTolerance": 0.001,
"falseX": -20037700,
"falseY": -30241100,
"xyUnits": 10000,
"falseZ": -100000,
"zUnits": 10000,
"falseM": -100000,
"mUnits": 10000
}
},
"datesInUnknownTimezone": false,
"minScale": 2311162.217154,
"maxScale": 282.124294,
"units": "esriMeters",
"supportedImageFormatTypes": "PNG32,PNG24,PNG,JPG,DIB,TIFF,EMF,PS,PDF,GIF,SVG,SVGZ,BMP",
"documentInfo": {
"Title": "Aerial Photography Sep 2019 - Dec 2019 (Ortho)",
"Author": "",
"Comments": " This raster dataset consists of color orthophotos. A digital orthophoto is a raster image processed from vertical aerial photographs in which displacement in the image due to sensor orientation and terrain relief have been removed. Orthophotos combine the image characteristics of a photograph with the geometric qualities of a map. Unlike planimetric maps which depicts natural and manmade features by means of lines, point symbols, texts and polygons, orthophotos show the actual images of features and are thus more easily interpreted than regular maps. The normal orientation of data in an orthophoto is by lines (rows) and samples (columns). Each line contains a series of pixels ordered from west to east with the order of the lines from north to south.<\/SPAN><\/P> <\/P> The color aerial orthophotography was collected from September 2019 thru December 2019. The orthophotos were produced at 0.25', 0.32' and 0.75' Ground Sampling Distance (GSD) covering approximately 5855 square miles. Of the 5855 square miles, approximately 461 square miles are high resolution (0.25') imagery, approximately 2756 square miles are lower resolution (0.32') imagery, and approximately 2638 square miles are lowest resolution (0.75') imagery. The flight heights range from approximately 2300'-5800', 2200'-6800' and 2100'-9200' above mean terrain respectively for the high resolution (0.25'), lower resolution (0.32'), and lowest resolution (0.75') imagery. Each ortho tile is 5000' x 5000' in dimension and was produced from nadir images and edge matched with the adjacent tiles (no gap and no overlap). Automatic aerial triangulation (AAT) was performed. The triangulated frames were rectified to a LiDAR derived DEM. Mosaicing was performed using an automatic seaming algorithm and manually edited to eliminate seams through elevated features where possible. Each image tile is stored in industry standard .TIFF (tagged interchange file format) with an associated true world header file. This dataset is published in Arizona State Plane Coordinate System, Central Zone, NAD83/92 HARN with units in international feet.<\/SPAN><\/P><\/DIV><\/DIV><\/DIV>",
"Subject": "This mosaic is made up of the best available resolution, ortho-rectified aerial photography from this dataset.",
"Category": "",
"Version": "2.9.0",
"AntialiasingMode": "Fast",
"TextAntialiasingMode": "Force",
"Keywords": "orthophoto,ortho,aerial,photography,photo,image,imagery,maricopa,maricopa,county"
},
"supportsQueryDomains": true,
"capabilities": "Map,Query,Data",
"supportedQueryFormats": "JSON, geoJSON, PBF",
"exportTilesAllowed": false,
"referenceScale": 0.0,
"datumTransformations": [
{
"geoTransforms": [
{
"wkid": 108001,
"latestWkid": 1241,
"transformForward": true,
"name": "NAD_1927_To_NAD_1983_NADCON"
}
]
},
{
"geoTransforms": [
{
"wkid": 108001,
"latestWkid": 1241,
"transformForward": false,
"name": "NAD_1927_To_NAD_1983_NADCON"
}
]
}
],
"supportsDatumTransformation": true,
"archivingInfo": {"supportsHistoricMoment": false},
"supportsClipping": true,
"supportsSpatialFilter": true,
"supportsTimeRelation": true,
"supportsQueryDataElements": true,
"mapUnits": {"uwkid": 9001},
"maxRecordCount": 2000,
"maxImageHeight": 4096,
"maxImageWidth": 4096,
"supportedExtensions": "",
"resampling": false
}