View In:
ArcGIS JavaScript
ArcGIS Online Map Viewer
ArcGIS Earth
ArcMap
View Footprint In:
ArcGIS Online Map Viewer
Service Description: Survey/Vertcon
Name: Survey/Vertcon
Description:
Single Fused Map Cache: false
Extent:
XMin: -1.2620601636303952E7
YMin: 3875771.3100950522
XMax: -1.2418884996303951E7
YMax: 4037132.4300950523
Spatial Reference: 102100
(3857)
Initial Extent:
XMin: -1.2620601636303952E7
YMin: 3875771.3100950522
XMax: -1.2418884996303951E7
YMax: 4037132.4300950523
Spatial Reference: 102100
(3857)
Full Extent:
XMin: -1.2620601636303952E7
YMin: 3875771.3100950522
XMax: -1.2418884996303951E7
YMax: 4037132.4300950523
Spatial Reference: 102100
(3857)
Pixel Size X: 30.48000000000009
Pixel Size Y: 30.48000000000002
Band Count: 1
Pixel Type: F32
RasterFunction Infos: {"rasterFunctionInfos": [{
"name": "None",
"description": "",
"help": ""
}]}
Mensuration Capabilities: Basic
Has Histograms: true
Has Colormap: false
Has Multi Dimensions : false
Rendering Rule:
Min Scale: 0
Max Scale: 0
Copyright Text:
Service Data Type: esriImageServiceDataTypeGeneric
Min Values: 1.4700000286102295
Max Values: 2.565999984741211
Mean Values: 2.021309307243568
Standard Deviation Values: 0.18792655249531845
Object ID Field:
Fields:
None
Default Mosaic Method: Center
Allowed Mosaic Methods:
SortField:
SortValue: null
Mosaic Operator: First
Default Compression Quality: 75
Default Resampling Method: Bilinear
Max Record Count: null
Max Image Height: 4100
Max Image Width: 15000
Max Download Image Count: null
Max Mosaic Image Count: null
Allow Raster Function: true
Allow Copy: true
Allow Analysis: true
Allow Compute TiePoints: false
Supports Statistics: false
Supports Advanced Queries: false
Use StandardizedQueries: true
Raster Type Infos:
Name: Raster Dataset
Description: Supports all ArcGIS Raster Datasets
Help:
Has Raster Attribute Table: false
Edit Fields Info: null
Ownership Based AccessControl For Rasters: null
Child Resources:
Info
Histograms
Statistics
Key Properties
Legend
Raster Function Infos
Supported Operations:
Export Image
Identify
Measure
Compute Histograms
Compute Statistics Histograms
Get Samples
Compute Class Statistics
Query Boundary
Compute Pixel Location
Compute Angles
Validate
Project